BEGIN:VCALENDAR
VERSION:2.0
PRODID:-//永續食力 - ECPv6.15.20//NONSGML v1.0//EN
CALSCALE:GREGORIAN
METHOD:PUBLISH
X-WR-CALNAME:永續食力
X-ORIGINAL-URL:https://esgfood.org
X-WR-CALDESC:Events for 永續食力
REFRESH-INTERVAL;VALUE=DURATION:PT1H
X-Robots-Tag:noindex
X-PUBLISHED-TTL:PT1H
BEGIN:VTIMEZONE
TZID:Asia/Taipei
BEGIN:STANDARD
TZOFFSETFROM:+0800
TZOFFSETTO:+0800
TZNAME:CST
DTSTART:20240101T000000
END:STANDARD
END:VTIMEZONE
BEGIN:VEVENT
DTSTART;VALUE=DATE:20251204
DTEND;VALUE=DATE:20251205
DTSTAMP:20260424T054355
CREATED:20260107T010147Z
LAST-MODIFIED:20260117T201215Z
UID:63999-1764806400-1764892799@esgfood.org
SUMMARY:中國文化大學 全球商務學程Climate Change and Sustainable Healthy Diets 英語講座
DESCRIPTION:中國文化大學 全球商務學程Climate Change and Sustainable Healthy Diets 英語講座 \n  \n   
URL:https://esgfood.org/event/chinese-culture-university-climate-change-and-sustainable-healthy-diets/
CATEGORIES:學校、教育單位合作
ATTACH;FMTTYPE=image/jpeg:https://esgfood.org/wp-content/uploads/2026/01/LINE_ALBUM_20251204-文化大學_251217_16.jpg
END:VEVENT
BEGIN:VEVENT
DTSTART;VALUE=DATE:20251204
DTEND;VALUE=DATE:20251205
DTSTAMP:20260424T054355
CREATED:20260107T010519Z
LAST-MODIFIED:20260117T201320Z
UID:64008-1764806400-1764892799@esgfood.org
SUMMARY:桃園市立武漢國小 愛地球電影欣賞會-食至滅絕
DESCRIPTION:桃園市立武漢國小 愛地球電影欣賞會-食至滅絕
URL:https://esgfood.org/event/wuhan-elementary-school/
CATEGORIES:學校、教育單位合作
ATTACH;FMTTYPE=image/jpeg:https://esgfood.org/wp-content/uploads/2026/01/LINE_ALBUM_2025124-桃園武漢國小-食至滅絕電影欣賞_251218_50.jpg
END:VEVENT
BEGIN:VEVENT
DTSTART;VALUE=DATE:20251205
DTEND;VALUE=DATE:20251206
DTSTAMP:20260424T054355
CREATED:20260107T011602Z
LAST-MODIFIED:20260117T201050Z
UID:64016-1764892800-1764979199@esgfood.org
SUMMARY:臺中第一高級中等學校-永續飲食講座
DESCRIPTION:臺中第一高級中等學校-永續飲食講座 \n \n  
URL:https://esgfood.org/event/taichung-municipal-taichung-first-senior-high-school/
CATEGORIES:學校、教育單位合作
ATTACH;FMTTYPE=image/jpeg:https://esgfood.org/wp-content/uploads/2026/01/LINE_ALBUM_2025125台中一中_251217_14.jpg
END:VEVENT
BEGIN:VEVENT
DTSTART;VALUE=DATE:20251206
DTEND;VALUE=DATE:20251207
DTSTAMP:20260424T054355
CREATED:20260115T001532Z
LAST-MODIFIED:20260117T201007Z
UID:64032-1764979200-1765065599@esgfood.org
SUMMARY:台北海洋科技大學 士林校區-實踐綠生活&永續飲食講座
DESCRIPTION:台北海洋科技大學 士林校區-實踐綠生活&永續飲食講座 \n  
URL:https://esgfood.org/event/taipei-university-of-marine-technology/
CATEGORIES:學校、教育單位合作
ATTACH;FMTTYPE=image/jpeg:https://esgfood.org/wp-content/uploads/2026/01/LINE_ALBUM_2025126-台北海洋科技大學士林校區進修部永續飲食講座_251217_13-1.jpg
END:VEVENT
BEGIN:VEVENT
DTSTART;VALUE=DATE:20251206
DTEND;VALUE=DATE:20251207
DTSTAMP:20260424T054355
CREATED:20260115T002618Z
LAST-MODIFIED:20260117T200929Z
UID:64042-1764979200-1765065599@esgfood.org
SUMMARY:育英醫護管理專科學校永續飲食知識展＋問答摸彩
DESCRIPTION:育英醫護管理專科學校永續飲食知識展＋問答摸彩 \n\n     
URL:https://esgfood.org/event/yuh-lng-junior-college-of-health-care-management-2/
CATEGORIES:學校、教育單位合作
ATTACH;FMTTYPE=image/jpeg:https://esgfood.org/wp-content/uploads/2026/01/LINE_ALBUM_20251206高雄育英醫護專科園遊會知識展_251217_9-1.jpg
END:VEVENT
BEGIN:VEVENT
DTSTART;VALUE=DATE:20251209
DTEND;VALUE=DATE:20251210
DTSTAMP:20260424T054355
CREATED:20260115T002757Z
LAST-MODIFIED:20260117T200854Z
UID:64052-1765238400-1765324799@esgfood.org
SUMMARY:國立臺北商業大學 財務金融系大四-永續飲食講座
DESCRIPTION:國立臺北商業大學財務金融系大四永續飲食講座 \n  \n   
URL:https://esgfood.org/event/national-taipei-university-of-business/
CATEGORIES:學校、教育單位合作
ATTACH;FMTTYPE=image/jpeg:https://esgfood.org/wp-content/uploads/2026/01/LINE_ALBUM_20251209-臺北商大_251217_14.jpg
END:VEVENT
BEGIN:VEVENT
DTSTART;VALUE=DATE:20251209
DTEND;VALUE=DATE:20251210
DTSTAMP:20260424T054355
CREATED:20260115T003234Z
LAST-MODIFIED:20260117T200711Z
UID:64063-1765238400-1765324799@esgfood.org
SUMMARY:醒吾科技大學 觀光休閒系-永續飲食講座
DESCRIPTION:醒吾科技大學 觀光休閒系-永續飲食講座 \n\n \n  \n 
URL:https://esgfood.org/event/hsing-wu-university-department-of-tourism-and-leisure-2/
CATEGORIES:學校、教育單位合作
ATTACH;FMTTYPE=image/jpeg:https://esgfood.org/wp-content/uploads/2026/01/LINE_ALBUM_20251209醒吾科大觀光休閒系_251217_17.jpg
END:VEVENT
BEGIN:VEVENT
DTSTART;VALUE=DATE:20251210
DTEND;VALUE=DATE:20251211
DTSTAMP:20260424T054355
CREATED:20260115T004334Z
LAST-MODIFIED:20260117T200624Z
UID:64079-1765324800-1765411199@esgfood.org
SUMMARY:南投特殊教育學校-永續飲食講座
DESCRIPTION:南投特殊教育學校-永續飲食講座
URL:https://esgfood.org/event/national-nantou-special-school/
CATEGORIES:學校、教育單位合作
ATTACH;FMTTYPE=image/jpeg:https://esgfood.org/wp-content/uploads/2026/01/LINE_ALBUM_20251211南投特教學校學校提供可上傳_251217_10.jpg
END:VEVENT
BEGIN:VEVENT
DTSTART;VALUE=DATE:20251212
DTEND;VALUE=DATE:20251213
DTSTAMP:20260424T054355
CREATED:20260115T005536Z
LAST-MODIFIED:20260117T200554Z
UID:64093-1765497600-1765583999@esgfood.org
SUMMARY:三峽國中 動物福利、飲食選擇與環境永續關係講座
DESCRIPTION:三峽國中 動物福利、飲食選擇與環境永續關係講座 \n \n      
URL:https://esgfood.org/event/municipal-sanxia-junior-high-school/
CATEGORIES:學校、教育單位合作
ATTACH;FMTTYPE=image/jpeg:https://esgfood.org/wp-content/uploads/2026/01/LINE_ALBUM_20251212三峽國中7年級_251217_60.jpg
END:VEVENT
BEGIN:VEVENT
DTSTART;VALUE=DATE:20251217
DTEND;VALUE=DATE:20251218
DTSTAMP:20260424T054355
CREATED:20260117T193054Z
LAST-MODIFIED:20260117T200503Z
UID:64185-1765929600-1766015999@esgfood.org
SUMMARY:神岡工業高級中等學校「與地球一起健康」的淨零綠生活講座
DESCRIPTION:神岡工業高級中等學校「與地球一起健康」的淨零綠生活講座 \n   \n 
URL:https://esgfood.org/event/shengang-industrial-high-school/
CATEGORIES:學校、教育單位合作
ATTACH;FMTTYPE=image/jpeg:https://esgfood.org/wp-content/uploads/2026/01/LINE_ALBUM_20251217_台中神岡工業高中_與地球一起健康講座_260117_2.jpg
END:VEVENT
BEGIN:VEVENT
DTSTART;VALUE=DATE:20251217
DTEND;VALUE=DATE:20251218
DTSTAMP:20260424T054355
CREATED:20260117T193800Z
LAST-MODIFIED:20260117T200437Z
UID:64200-1765929600-1766015999@esgfood.org
SUMMARY:台北城市科技大學 烘焙學程-永續飲食講座與永續烘焙教學
DESCRIPTION:台北城市科技大學烘焙學程永續飲食講座與永續烘焙教學 \n        \n  \n 
URL:https://esgfood.org/event/taipei-city-university-of-science-and-technology/
CATEGORIES:學校、教育單位合作
ATTACH;FMTTYPE=image/jpeg:https://esgfood.org/wp-content/uploads/2026/01/LINE_ALBUM_1217（三）台北城市科技大學-烘焙學程永續飲食講座-與永續烘焙教_260117_7.jpg
END:VEVENT
BEGIN:VEVENT
DTSTART;VALUE=DATE:20251217
DTEND;VALUE=DATE:20251218
DTSTAMP:20260424T054355
CREATED:20260117T194053Z
LAST-MODIFIED:20260117T200355Z
UID:64212-1765929600-1766015999@esgfood.org
SUMMARY:台南中華醫事科技大學 -永續飲食講座
DESCRIPTION:台南中華醫事科技大學 -永續飲食講座 \n   
URL:https://esgfood.org/event/chung-hwa-university-of-medical-technology-2/
CATEGORIES:學校、教育單位合作
ATTACH;FMTTYPE=image/jpeg:https://esgfood.org/wp-content/uploads/2026/01/LINE_ALBUM_20251217中華醫事科技大學醫檢系大三（二技一年級）程華興醫師_260117_25.jpg
END:VEVENT
BEGIN:VEVENT
DTSTART;VALUE=DATE:20251218
DTEND;VALUE=DATE:20251219
DTSTAMP:20260424T054355
CREATED:20260117T194410Z
LAST-MODIFIED:20260117T200319Z
UID:64221-1766016000-1766102399@esgfood.org
SUMMARY:桃園市復興區奎輝國小 -愛地球電影欣賞會-食至滅絕
DESCRIPTION:桃園市復興區奎輝國小 -愛地球電影欣賞會-食至滅絕 \n\n 
URL:https://esgfood.org/event/keihui-elementary-school/
CATEGORIES:學校、教育單位合作
ATTACH;FMTTYPE=image/jpeg:https://esgfood.org/wp-content/uploads/2026/01/LINE_ALBUM_2025.12.18桃園市奎輝國小-愛地球電影欣賞_260117_6.jpg
END:VEVENT
BEGIN:VEVENT
DTSTART;VALUE=DATE:20251219
DTEND;VALUE=DATE:20251220
DTSTAMP:20260424T054355
CREATED:20260117T195133Z
LAST-MODIFIED:20260117T200235Z
UID:64237-1766102400-1766188799@esgfood.org
SUMMARY:台北實踐大學企管系 : 瑜伽行者與大自然的和平共處
DESCRIPTION:台北實踐大學企管系永: 瑜伽行者與大自然的和平共處 \n 
URL:https://esgfood.org/event/shih-chien-university/
CATEGORIES:學校、教育單位合作
ATTACH;FMTTYPE=image/jpeg:https://esgfood.org/wp-content/uploads/2026/01/LINE_ALBUM_20251219-實踐大學企管系_260117_17-1.jpg
END:VEVENT
BEGIN:VEVENT
DTSTART;VALUE=DATE:20251220
DTEND;VALUE=DATE:20251221
DTSTAMP:20260424T054355
CREATED:20260117T195651Z
LAST-MODIFIED:20260117T200151Z
UID:64248-1766188800-1766275199@esgfood.org
SUMMARY:大葉大學-永續飲食講座
DESCRIPTION:大葉大學-永續飲食講座
URL:https://esgfood.org/event/dayeh-university/
CATEGORIES:學校、教育單位合作
ATTACH;FMTTYPE=image/jpeg:https://esgfood.org/wp-content/uploads/2026/01/LINE_ALBUM_20251220大葉大學校慶-永續飲食講座_260117_11.jpg
END:VEVENT
BEGIN:VEVENT
DTSTART;VALUE=DATE:20251226
DTEND;VALUE=DATE:20251227
DTSTAMP:20260424T054355
CREATED:20260127T194150Z
LAST-MODIFIED:20260127T194417Z
UID:64273-1766707200-1766793599@esgfood.org
SUMMARY:中國文化大學 青少年兒童福利碩士學位學程-永續飲食講座
DESCRIPTION:
URL:https://esgfood.org/event/chinese-culture-university-2/
CATEGORIES:學校、教育單位合作
ATTACH;FMTTYPE=image/jpeg:https://esgfood.org/wp-content/uploads/2026/01/LINE_ALBUM_20251226-文化大學兒福系-永續飲食講座_260117_8.jpg
END:VEVENT
BEGIN:VEVENT
DTSTART;VALUE=DATE:20251226
DTEND;VALUE=DATE:20251227
DTSTAMP:20260424T054355
CREATED:20260127T194627Z
LAST-MODIFIED:20260127T195427Z
UID:64284-1766707200-1766793599@esgfood.org
SUMMARY:興福國中 國一～國三普通班和體育班-飲食與友善環境講座
DESCRIPTION:
URL:https://esgfood.org/event/taipei-municipal-xingfu-junior-high-school/
CATEGORIES:學校、教育單位合作
ATTACH;FMTTYPE=image/jpeg:https://esgfood.org/wp-content/uploads/2026/01/LINE_ALBUM_20251226台北市興福國中身土不二講座_260117_442.jpg
END:VEVENT
END:VCALENDAR