BEGIN:VCALENDAR
VERSION:2.0
PRODID:-//永續食力 - ECPv6.15.20//NONSGML v1.0//EN
CALSCALE:GREGORIAN
METHOD:PUBLISH
X-ORIGINAL-URL:https://esgfood.org
X-WR-CALDESC:Events for 永續食力
REFRESH-INTERVAL;VALUE=DURATION:PT1H
X-Robots-Tag:noindex
X-PUBLISHED-TTL:PT1H
BEGIN:VTIMEZONE
TZID:Asia/Taipei
BEGIN:STANDARD
TZOFFSETFROM:+0800
TZOFFSETTO:+0800
TZNAME:CST
DTSTART:20250101T000000
END:STANDARD
END:VTIMEZONE
BEGIN:VEVENT
DTSTART;VALUE=DATE:20260401
DTEND;VALUE=DATE:20260402
DTSTAMP:20260424T041212
CREATED:20260420T015201Z
LAST-MODIFIED:20260420T155334Z
UID:64558-1775001600-1775087999@esgfood.org
SUMMARY:南投縣竹山鎮桶頭國小《減碳特攻隊：用「竹子精神」與「餐盤力量」拯救地球太空船！》講座
DESCRIPTION:
URL:https://esgfood.org/event/tongtou-primary-school/
CATEGORIES:學校、教育單位合作
ATTACH;FMTTYPE=image/jpeg:https://esgfood.org/wp-content/uploads/2026/04/LINE_ALBUM_202641桶頭國小永續飲食講座_260403_2-1.jpg
END:VEVENT
BEGIN:VEVENT
DTSTART;VALUE=DATE:20260402
DTEND;VALUE=DATE:20260403
DTSTAMP:20260424T041212
CREATED:20260420T154208Z
LAST-MODIFIED:20260420T154500Z
UID:64567-1775088000-1775174399@esgfood.org
SUMMARY:逢甲大學 合作經濟暨社會事業經營學系-永續飲食講座
DESCRIPTION: 
URL:https://esgfood.org/event/feng-chia-university/
CATEGORIES:學校、教育單位合作
ATTACH;FMTTYPE=image/jpeg:https://esgfood.org/wp-content/uploads/2026/04/LINE_ALBUM_2026／04／02逢甲大學-合作經濟暨社會事業經營學系-劉登傑醫師-主講植物性飲食是_260403_5.jpg
END:VEVENT
BEGIN:VEVENT
DTSTART;VALUE=DATE:20260407
DTEND;VALUE=DATE:20260408
DTSTAMP:20260424T041212
CREATED:20260420T154754Z
LAST-MODIFIED:20260420T154934Z
UID:64577-1775520000-1775606399@esgfood.org
SUMMARY:義守大學 企管系-永續飲食講座
DESCRIPTION:
URL:https://esgfood.org/event/i-shou-university/
CATEGORIES:學校、教育單位合作
ATTACH;FMTTYPE=image/jpeg:https://esgfood.org/wp-content/uploads/2026/04/LINE_ALBUM_202647-義守大學永續飲食講座_260420_19.jpg
END:VEVENT
BEGIN:VEVENT
DTSTART;VALUE=DATE:20260407
DTEND;VALUE=DATE:20260408
DTSTAMP:20260424T041212
CREATED:20260420T155625Z
LAST-MODIFIED:20260420T155918Z
UID:64589-1775520000-1775606399@esgfood.org
SUMMARY:臺北市立大學 永續發展(SDGs)辦公室-永續飲食講座
DESCRIPTION: 
URL:https://esgfood.org/event/university-of-taipei/
CATEGORIES:學校、教育單位合作
ATTACH;FMTTYPE=image/jpeg:https://esgfood.org/wp-content/uploads/2026/04/LINE_ALBUM_202647一臺北市立大學講座_260420_16.jpg
END:VEVENT
BEGIN:VEVENT
DTSTART;VALUE=DATE:20260408
DTEND;VALUE=DATE:20260409
DTSTAMP:20260424T041212
CREATED:20260420T160108Z
LAST-MODIFIED:20260420T160614Z
UID:64601-1775606400-1775692799@esgfood.org
SUMMARY:中原大學 化工系-永續飲食講座
DESCRIPTION: 
URL:https://esgfood.org/event/chung-yuan-christian-university/
CATEGORIES:學校、教育單位合作
ATTACH;FMTTYPE=image/jpeg:https://esgfood.org/wp-content/uploads/2026/04/LINE_ALBUM_202648-中原大學-化工系_260420_2-2.jpg
END:VEVENT
BEGIN:VEVENT
DTSTART;VALUE=DATE:20260409
DTEND;VALUE=DATE:20260410
DTSTAMP:20260424T041212
CREATED:20260420T160916Z
LAST-MODIFIED:20260420T161113Z
UID:64615-1775692800-1775779199@esgfood.org
SUMMARY:彰化縣立彰興國中-永續飲食講座
DESCRIPTION: 
URL:https://esgfood.org/event/changsing-junior-high-school/
CATEGORIES:學校、教育單位合作
ATTACH;FMTTYPE=image/jpeg:https://esgfood.org/wp-content/uploads/2026/04/LINE_ALBUM_202649彰化縣彰興國中永續飲食講座_260420_1.jpg
END:VEVENT
BEGIN:VEVENT
DTSTART;VALUE=DATE:20260414
DTEND;VALUE=DATE:20260415
DTSTAMP:20260424T041212
CREATED:20260420T162830Z
LAST-MODIFIED:20260420T162918Z
UID:64627-1776124800-1776211199@esgfood.org
SUMMARY:明志科技大學 環安衛系所-永續飲食講座、永續飲食知識展
DESCRIPTION:
URL:https://esgfood.org/event/ming-chi-university-of-technology/
CATEGORIES:學校、教育單位合作
ATTACH;FMTTYPE=image/jpeg:https://esgfood.org/wp-content/uploads/2026/04/LINE_ALBUM_20260414-明志科技大學_260420_14.jpg
END:VEVENT
BEGIN:VEVENT
DTSTART;VALUE=DATE:20260414
DTEND;VALUE=DATE:20260415
DTSTAMP:20260424T041212
CREATED:20260420T163219Z
LAST-MODIFIED:20260420T163356Z
UID:64637-1776124800-1776211199@esgfood.org
SUMMARY:樹人醫護管理專科學校 牙體技術科-永續飲食營養講座
DESCRIPTION: \n  
URL:https://esgfood.org/event/shu-zen-junior-college-of-medicine-and-management-3/
CATEGORIES:學校、教育單位合作
ATTACH;FMTTYPE=image/jpeg:https://esgfood.org/wp-content/uploads/2026/04/LINE_ALBUM_2026414樹人醫護專科牙體技術科_260420_1.jpg
END:VEVENT
BEGIN:VEVENT
DTSTART;VALUE=DATE:20260415
DTEND;VALUE=DATE:20260416
DTSTAMP:20260424T041212
CREATED:20260420T163706Z
LAST-MODIFIED:20260420T163759Z
UID:64647-1776211200-1776297599@esgfood.org
SUMMARY:國立臺灣海洋大學 附屬基隆海事高級中學 (簡稱海大附中)-永續飲食講座
DESCRIPTION:
URL:https://esgfood.org/event/the-affiliated-keelung-maritime-senior-high-school-of-national-taiwan-ocean-university-3/
CATEGORIES:學校、教育單位合作
ATTACH;FMTTYPE=image/jpeg:https://esgfood.org/wp-content/uploads/2026/04/LINE_ALBUM_2026.04.15-海大附中-永續飲食講座_260420_11.jpg
END:VEVENT
BEGIN:VEVENT
DTSTART;VALUE=DATE:20260415
DTEND;VALUE=DATE:20260416
DTSTAMP:20260424T041212
CREATED:20260420T164226Z
LAST-MODIFIED:20260420T165038Z
UID:64655-1776211200-1776297599@esgfood.org
SUMMARY:臺中市龍井區龍峰國民小學 永續下午茶DIY-松果巧克力和漢堡
DESCRIPTION:
URL:https://esgfood.org/event/long-fong-elementary-school/
CATEGORIES:學校、教育單位合作
ATTACH;FMTTYPE=image/jpeg:https://esgfood.org/wp-content/uploads/2026/04/LINE_ALBUM_20260415龍峰國小下午茶DIY_260420_1.jpg
END:VEVENT
END:VCALENDAR